BEGIN:VCALENDAR
VERSION:2.0
PRODID:-//Squarespace Inc/Squarespace 6//v6//EN
BEGIN:VEVENT
UID:57cde84ad1758e8b0e7c6ff1@squarespace.com
DTSTAMP:20160905T215619Z
DTSTART:20160911T000000Z
DTEND:20160911T020000Z
SUMMARY:Healing thru Arts & Bridge the Gap Project presents...The First Ste
 p
END:VEVENT
END:VCALENDAR
